BEGIN:VCALENDAR
VERSION:2.0
PRODID:-//Saraf Public School - ECPv6.15.17.1//NONSGML v1.0//EN
CALSCALE:GREGORIAN
METHOD:PUBLISH
X-ORIGINAL-URL:https://sarafpublicschool.org
X-WR-CALDESC:Events for Saraf Public School
REFRESH-INTERVAL;VALUE=DURATION:PT1H
X-Robots-Tag:noindex
X-PUBLISHED-TTL:PT1H
BEGIN:VTIMEZONE
TZID:UTC
BEGIN:STANDARD
TZOFFSETFROM:+0000
TZOFFSETTO:+0000
TZNAME:UTC
DTSTART:20220101T000000
END:STANDARD
END:VTIMEZONE
BEGIN:VEVENT
DTSTART;VALUE=DATE:20231110
DTEND;VALUE=DATE:20231111
DTSTAMP:20260420T062718
CREATED:20231106T180321Z
LAST-MODIFIED:20231106T180416Z
UID:5302-1699574400-1699660799@sarafpublicschool.org
SUMMARY:Diwali Celebration
DESCRIPTION:
URL:https://sarafpublicschool.org/event/diwali-celebration/
LOCATION:Saraf Public School\, Saraf Public School\, Khatima\, Udham Singh Nager\, Uttarakhand\, Udham Singh Nager\, Uttarakhand\, 262308\, India
CATEGORIES:Cultural
ATTACH;FMTTYPE=image/jpeg:https://sarafpublicschool.org/wp-content/uploads/2023/11/Diwali-Celebration-scaled.jpg
ORGANIZER;CN="Saraf Public School":MAILTO:sps@eduvisors.org
END:VEVENT
BEGIN:VEVENT
DTSTART;VALUE=DATE:20231110
DTEND;VALUE=DATE:20231111
DTSTAMP:20260420T062718
CREATED:20231106T180444Z
LAST-MODIFIED:20231106T180517Z
UID:5305-1699574400-1699660799@sarafpublicschool.org
SUMMARY:Inter House Rangoli Making Competition
DESCRIPTION:
URL:https://sarafpublicschool.org/event/inter-house-rangoli-making-competition/
LOCATION:Saraf Public School\, Saraf Public School\, Khatima\, Udham Singh Nager\, Uttarakhand\, Udham Singh Nager\, Uttarakhand\, 262308\, India
CATEGORIES:Cultural
ATTACH;FMTTYPE=image/jpeg:https://sarafpublicschool.org/wp-content/uploads/2023/11/Inter-House-Rangoli-Making-Competition.jpg
ORGANIZER;CN="Saraf Public School":MAILTO:sps@eduvisors.org
END:VEVENT
BEGIN:VEVENT
DTSTART;VALUE=DATE:20231220
DTEND;VALUE=DATE:20231221
DTSTAMP:20260420T062718
CREATED:20231212T035655Z
LAST-MODIFIED:20231212T035655Z
UID:5323-1703030400-1703116799@sarafpublicschool.org
SUMMARY:Inter House Display Board Decoration (Class IV-V)
DESCRIPTION:
URL:https://sarafpublicschool.org/event/inter-house-display-board-decoration-class-iv-v/
LOCATION:Saraf Public School\, Saraf Public School\, Khatima\, Udham Singh Nager\, Uttarakhand\, Udham Singh Nager\, Uttarakhand\, 262308\, India
CATEGORIES:Cultural
ATTACH;FMTTYPE=image/jpeg:https://sarafpublicschool.org/wp-content/uploads/2023/12/4-display-board-decoration-IV-V.jpg
ORGANIZER;CN="Saraf Public School":MAILTO:sps@eduvisors.org
END:VEVENT
BEGIN:VEVENT
DTSTART;VALUE=DATE:20260208
DTEND;VALUE=DATE:20260209
DTSTAMP:20260420T062718
CREATED:20260204T072930Z
LAST-MODIFIED:20260204T073007Z
UID:7134-1770508800-1770595199@sarafpublicschool.org
SUMMARY:SPRING CARNIVAL
DESCRIPTION:
URL:https://sarafpublicschool.org/event/spring-carnival/
LOCATION:Saraf Public School\, Saraf Public School\, Khatima\, Udham Singh Nager\, Uttarakhand\, Udham Singh Nager\, Uttarakhand\, 262308\, India
CATEGORIES:Cultural
ATTACH;FMTTYPE=image/jpeg:https://sarafpublicschool.org/wp-content/uploads/2026/02/carnival.jpeg
ORGANIZER;CN="Saraf Public School":MAILTO:sps@eduvisors.org
END:VEVENT
END:VCALENDAR