BEGIN:VCALENDAR
VERSION:2.0
PRODID:-//Saraf Public School - ECPv6.15.17.1//NONSGML v1.0//EN
CALSCALE:GREGORIAN
METHOD:PUBLISH
X-ORIGINAL-URL:https://sarafpublicschool.org
X-WR-CALDESC:Events for Saraf Public School
REFRESH-INTERVAL;VALUE=DURATION:PT1H
X-Robots-Tag:noindex
X-PUBLISHED-TTL:PT1H
BEGIN:VTIMEZONE
TZID:UTC
BEGIN:STANDARD
TZOFFSETFROM:+0000
TZOFFSETTO:+0000
TZNAME:UTC
DTSTART:20220101T000000
END:STANDARD
END:VTIMEZONE
BEGIN:VEVENT
DTSTART;VALUE=DATE:20230904
DTEND;VALUE=DATE:20230905
DTSTAMP:20260419T183307
CREATED:20231024T141643Z
LAST-MODIFIED:20231024T141643Z
UID:5276-1693785600-1693871999@sarafpublicschool.org
SUMMARY:Janmastami Celebration
DESCRIPTION:
URL:https://sarafpublicschool.org/event/janmastami-celebration/
LOCATION:Uttarakhand
CATEGORIES:Cultural
ATTACH;FMTTYPE=image/jpeg:https://sarafpublicschool.org/wp-content/uploads/2023/10/21-Janmastami.jpg
END:VEVENT
END:VCALENDAR