BEGIN:VCALENDAR
VERSION:2.0
PRODID:-//Saraf Public School - ECPv6.15.17.1//NONSGML v1.0//EN
CALSCALE:GREGORIAN
METHOD:PUBLISH
X-WR-CALNAME:Saraf Public School
X-ORIGINAL-URL:https://sarafpublicschool.org
X-WR-CALDESC:Events for Saraf Public School
REFRESH-INTERVAL;VALUE=DURATION:PT1H
X-Robots-Tag:noindex
X-PUBLISHED-TTL:PT1H
BEGIN:VTIMEZONE
TZID:UTC
BEGIN:STANDARD
TZOFFSETFROM:+0000
TZOFFSETTO:+0000
TZNAME:UTC
DTSTART:20220101T000000
END:STANDARD
END:VTIMEZONE
BEGIN:VEVENT
DTSTART;VALUE=DATE:20230506
DTEND;VALUE=DATE:20230507
DTSTAMP:20260420T010340
CREATED:20230503T140738Z
LAST-MODIFIED:20230503T140738Z
UID:5097-1683331200-1683417599@sarafpublicschool.org
SUMMARY:Inter House Badminton Tournament (VI-VIII)
DESCRIPTION:
URL:https://sarafpublicschool.org/event/inter-house-badminton-tournament-vi-viii/
LOCATION:Saraf Public School\, Saraf Public School\, Khatima\, Udham Singh Nager\, Uttarakhand\, Udham Singh Nager\, Uttarakhand\, 262308\, India
CATEGORIES:Cultural
ATTACH;FMTTYPE=image/jpeg:https://sarafpublicschool.org/wp-content/uploads/2023/05/Inter-House-Badminton.jpeg
ORGANIZER;CN="Saraf Public School":MAILTO:sps@eduvisors.org
END:VEVENT
BEGIN:VEVENT
DTSTART;VALUE=DATE:20230509
DTEND;VALUE=DATE:20230510
DTSTAMP:20260420T010340
CREATED:20230503T140923Z
LAST-MODIFIED:20230503T142835Z
UID:5100-1683590400-1683676799@sarafpublicschool.org
SUMMARY:Inter House Hindi Quiz (I-II)
DESCRIPTION:
URL:https://sarafpublicschool.org/event/inter-house-hindi-quiz-i-ii/
LOCATION:Saraf Public School\, Saraf Public School\, Khatima\, Udham Singh Nager\, Uttarakhand\, Udham Singh Nager\, Uttarakhand\, 262308\, India
CATEGORIES:Cultural
ATTACH;FMTTYPE=image/jpeg:https://sarafpublicschool.org/wp-content/uploads/2023/05/Inter-House-Hindi-Quiz-Competition.jpeg
ORGANIZER;CN="Saraf Public School":MAILTO:sps@eduvisors.org
END:VEVENT
BEGIN:VEVENT
DTSTART;VALUE=DATE:20230510
DTEND;VALUE=DATE:20230511
DTSTAMP:20260420T010340
CREATED:20230503T141020Z
LAST-MODIFIED:20230503T141020Z
UID:5102-1683676800-1683763199@sarafpublicschool.org
SUMMARY:Inter House Badminton Tournament (IX-XII)
DESCRIPTION:
URL:https://sarafpublicschool.org/event/inter-house-badminton-tournament-ix-xii/
LOCATION:Saraf Public School\, Saraf Public School\, Khatima\, Udham Singh Nager\, Uttarakhand\, Udham Singh Nager\, Uttarakhand\, 262308\, India
CATEGORIES:Cultural
ATTACH;FMTTYPE=image/jpeg:https://sarafpublicschool.org/wp-content/uploads/2023/05/Inter-House-Badminton.jpeg
ORGANIZER;CN="Saraf Public School":MAILTO:sps@eduvisors.org
END:VEVENT
BEGIN:VEVENT
DTSTART;VALUE=DATE:20230513
DTEND;VALUE=DATE:20230514
DTSTAMP:20260420T010340
CREATED:20230503T141538Z
LAST-MODIFIED:20230503T141538Z
UID:5104-1683936000-1684022399@sarafpublicschool.org
SUMMARY:Mothers' Day Celebration
DESCRIPTION:
URL:https://sarafpublicschool.org/event/mothers-day-celebration/
LOCATION:Saraf Public School\, Saraf Public School\, Khatima\, Udham Singh Nager\, Uttarakhand\, Udham Singh Nager\, Uttarakhand\, 262308\, India
CATEGORIES:Cultural
ATTACH;FMTTYPE=image/jpeg:https://sarafpublicschool.org/wp-content/uploads/2023/05/Mothers-Day-Celebration.jpeg
ORGANIZER;CN="Saraf Public School":MAILTO:sps@eduvisors.org
END:VEVENT
BEGIN:VEVENT
DTSTART;VALUE=DATE:20230520
DTEND;VALUE=DATE:20230521
DTSTAMP:20260420T010340
CREATED:20230503T141954Z
LAST-MODIFIED:20230503T142051Z
UID:5107-1684540800-1684627199@sarafpublicschool.org
SUMMARY:Listen and Act Activity (Nur-UKG)
DESCRIPTION:
URL:https://sarafpublicschool.org/event/listen-and-act-activity-nur-ukg/
LOCATION:Saraf Public School\, Saraf Public School\, Khatima\, Udham Singh Nager\, Uttarakhand\, Udham Singh Nager\, Uttarakhand\, 262308\, India
CATEGORIES:Cultural
ATTACH;FMTTYPE=image/jpeg:https://sarafpublicschool.org/wp-content/uploads/2023/05/extempore-1-min-scaled.jpg
ORGANIZER;CN="Saraf Public School":MAILTO:sps@eduvisors.org
END:VEVENT
BEGIN:VEVENT
DTSTART;VALUE=DATE:20230523
DTEND;VALUE=DATE:20230524
DTSTAMP:20260420T010341
CREATED:20230503T142204Z
LAST-MODIFIED:20230503T142217Z
UID:5111-1684800000-1684886399@sarafpublicschool.org
SUMMARY:Adventure and Fun Camp (Nur - X)
DESCRIPTION:
URL:https://sarafpublicschool.org/event/adventure-and-fun-camp-nur-x/
LOCATION:Saraf Public School\, Saraf Public School\, Khatima\, Udham Singh Nager\, Uttarakhand\, Udham Singh Nager\, Uttarakhand\, 262308\, India
CATEGORIES:Cultural
ATTACH;FMTTYPE=image/jpeg:https://sarafpublicschool.org/wp-content/uploads/2023/05/Fun-Camp-2.jpeg
ORGANIZER;CN="Saraf Public School":MAILTO:sps@eduvisors.org
END:VEVENT
BEGIN:VEVENT
DTSTART;VALUE=DATE:20230524
DTEND;VALUE=DATE:20230525
DTSTAMP:20260420T010341
CREATED:20230503T142255Z
LAST-MODIFIED:20230503T142255Z
UID:5114-1684886400-1684972799@sarafpublicschool.org
SUMMARY:Inter House Hindi Quiz (VI-VIII)
DESCRIPTION:
URL:https://sarafpublicschool.org/event/inter-house-hindi-quiz-vi-viii/
LOCATION:Saraf Public School\, Saraf Public School\, Khatima\, Udham Singh Nager\, Uttarakhand\, Udham Singh Nager\, Uttarakhand\, 262308\, India
CATEGORIES:Cultural
ATTACH;FMTTYPE=image/jpeg:https://sarafpublicschool.org/wp-content/uploads/2023/05/Inter-House-Hindi-Quiz-Competition.jpeg
ORGANIZER;CN="Saraf Public School":MAILTO:sps@eduvisors.org
END:VEVENT
BEGIN:VEVENT
DTSTART;VALUE=DATE:20230527
DTEND;VALUE=DATE:20230528
DTSTAMP:20260420T010341
CREATED:20230503T142353Z
LAST-MODIFIED:20230503T142556Z
UID:5116-1685145600-1685231999@sarafpublicschool.org
SUMMARY:Inter House Extempore Competition (IX-XII)
DESCRIPTION:
URL:https://sarafpublicschool.org/event/inter-house-extempore-competition-ix-xii/
LOCATION:Saraf Public School\, Saraf Public School\, Khatima\, Udham Singh Nager\, Uttarakhand\, Udham Singh Nager\, Uttarakhand\, 262308\, India
CATEGORIES:Cultural
ATTACH;FMTTYPE=image/jpeg:https://sarafpublicschool.org/wp-content/uploads/2023/05/extempore-1-min-scaled.jpg
ORGANIZER;CN="Saraf Public School":MAILTO:sps@eduvisors.org
END:VEVENT
END:VCALENDAR